BEGIN:VCALENDAR
VERSION:2.0
PRODID:-//so_ko_wpt • intervention und selbstbeherrschung - ECPv4.6.14.1//NONSGML v1.0//EN
CALSCALE:GREGORIAN
METHOD:PUBLISH
X-WR-CALNAME:so_ko_wpt • intervention und selbstbeherrschung
X-ORIGINAL-URL:https://soli-komitee-wuppertal.mobi
X-WR-CALDESC:Veranstaltungen für so_ko_wpt • intervention und selbstbeherrschung
BEGIN:VEVENT
DTSTART;TZID=Europe/Amsterdam:20160630T200000
DTEND;TZID=Europe/Amsterdam:20160630T220000
DTSTAMP:20260423T082453
CREATED:20160615T094804Z
LAST-MODIFIED:20160615T094804Z
UID:11413-1467316800-1467324000@soli-komitee-wuppertal.mobi
SUMMARY:VA: Präsentation der GruppeCars of Hope Wuppertal
DESCRIPTION:Aktivisten von 'Cars of Hope Wuppertal' werden während die Präsentation ausführlich über ihre Arbeit mit Geflüchtete in Griechenland berichten und auch Fotos und Videos zeigen. Alle Interessierten sind zherzlich eingeladen. Eine kleine Spende für zukünftige Projekte wird natürlich dankend angenommen. \nCrowdfunding Kampagne für Geflüchtete in Griechenland: youcaring.com/refugeesgreece \nSpendenkonto – Kontoinhaber: Sozialtal e.V.\nIban: DE80 3305 0000 0000 6968 49\nBic: WUPSDE33XXX\nVerwendungszweck: Cars Of Hope\n							Drucken \nArtikel teilen
URL:https://soli-komitee-wuppertal.mobi/event/va-prasentation-der-gruppe-cars-of-hope-wuppertal/
CATEGORIES:Veranstaltung/Vortrag
END:VEVENT
END:VCALENDAR