BEGIN:VCALENDAR
VERSION:2.0
PRODID:-//so_ko_wpt • intervention und selbstbeherrschung - ECPv4.6.14.1//NONSGML v1.0//EN
CALSCALE:GREGORIAN
METHOD:PUBLISH
X-WR-CALNAME:so_ko_wpt • intervention und selbstbeherrschung
X-ORIGINAL-URL:https://soli-komitee-wuppertal.mobi
X-WR-CALDESC:Veranstaltungen für so_ko_wpt • intervention und selbstbeherrschung
BEGIN:VEVENT
DTSTART;TZID=Europe/Amsterdam:20150520T190000
DTEND;TZID=Europe/Amsterdam:20150520T220000
DTSTAMP:20260423T210431
CREATED:20150426T120408Z
LAST-MODIFIED:20150507T114341Z
UID:8096-1432148400-1432159200@soli-komitee-wuppertal.mobi
SUMMARY:VoKü und Kneipe im AZ
DESCRIPTION:Achtung : Derzeit wird über das Statt­finden der AZ-Kneipen kurzfristig entschieden. Achtet auf entspre­chende Ankün­di­gungen ! \nEine Insti­tu­tion in Wuppertal : Die Mittwochs-Kneipe im Autonomen Zentrum mit Volxküche. Das vegane VoKü-Essen ist meist gegen 20:00 Uhr fertig. \n(Hin uns wieder wird die Mittwochs-Kneipe auch für beson­dere Veran­stal­tungen genutzt. Achtet auf geson­derte Ankün­di­gungen) \n\n							Drucken\nArtikel teilen
URL:https://soli-komitee-wuppertal.mobi/event/voku-und-kneipe-im-az-53/
CATEGORIES:Anderes
END:VEVENT
END:VCALENDAR