BEGIN:VCALENDAR
VERSION:2.0
PRODID:-//so_ko_wpt • intervention und selbstbeherrschung - ECPv4.6.14.1//NONSGML v1.0//EN
CALSCALE:GREGORIAN
METHOD:PUBLISH
X-WR-CALNAME:so_ko_wpt • intervention und selbstbeherrschung
X-ORIGINAL-URL:https://soli-komitee-wuppertal.mobi
X-WR-CALDESC:Veranstaltungen für so_ko_wpt • intervention und selbstbeherrschung
BEGIN:VEVENT
DTSTART;TZID=Europe/Amsterdam:20151216T200000
DTEND;TZID=Europe/Amsterdam:20151216T235500
DTSTAMP:20260422T084541
CREATED:20151207T135033Z
LAST-MODIFIED:20151215T205231Z
UID:10063-1450296000-1450310100@soli-komitee-wuppertal.mobi
SUMMARY:VoKü und Kneipe im AZ
DESCRIPTION:Jeden Mittwoch im Autonomen Zentrum Wuppertal: Kneipe mit Volxkücke (VoKü). Bei der VoKü gibt es einmal wöchentlich eine vegane Mahlzeit gegen ein geringes Entgeld (zur Zeit Euro 1\,50). Das Essen ist meist gegen 20 Uhr fertig. Den Rahmen des gemeinsamen Essens bildet die Mittwochskneipe im AZ. \nBeide Kneipentermine in der Weihnachtsvorwoche fallen aus Gründen aus.\n							Drucken \nArtikel teilen
URL:https://soli-komitee-wuppertal.mobi/event/voku-und-kneipe-im-az-82/
CATEGORIES:Anderes
END:VEVENT
END:VCALENDAR