BEGIN:VCALENDAR
VERSION:2.0
PRODID:-//so_ko_wpt • intervention und selbstbeherrschung - ECPv4.6.14.1//NONSGML v1.0//EN
CALSCALE:GREGORIAN
METHOD:PUBLISH
X-WR-CALNAME:so_ko_wpt • intervention und selbstbeherrschung
X-ORIGINAL-URL:https://soli-komitee-wuppertal.mobi
X-WR-CALDESC:Veranstaltungen für so_ko_wpt • intervention und selbstbeherrschung
BEGIN:VEVENT
DTSTART;TZID=Europe/Amsterdam:20180502T193000
DTEND;TZID=Europe/Amsterdam:20180502T233000
DTSTAMP:20260424T152520
CREATED:20180330T180552Z
LAST-MODIFIED:20180330T180552Z
UID:14900-1525289400-1525303800@soli-komitee-wuppertal.mobi
SUMMARY:VoKü und Kneipe im AZ
DESCRIPTION:Jeden Mittwoch im Autonomen Zentrum Wuppertal: Kneipe mit VoKü. Bei der VoKü gibt es einmal wöchentlich eine vegane Mahlzeit gegen ein geringes Entgeld. Das Essen ist meist gegen 20 Uhr fertig. Den Rahmen des gemeinsamen Essens bildet die Mittwochskneipe im AZ. \nAb und an finden während der Mittwochskneipe auch Vorträge und Diskussionen statt. Achtet dafür auf gesonderte Ankündigungen.\n							Drucken \nArtikel teilen
URL:https://soli-komitee-wuppertal.mobi/event/vokue-und-kneipe-im-az-34/
LOCATION:Markomannenstraße 3\, Wuppertal
CATEGORIES:Anderes
END:VEVENT
END:VCALENDAR