BEGIN:VCALENDAR
VERSION:2.0
PRODID:-//so_ko_wpt • intervention und selbstbeherrschung - ECPv4.6.14.1//NONSGML v1.0//EN
CALSCALE:GREGORIAN
METHOD:PUBLISH
X-WR-CALNAME:so_ko_wpt • intervention und selbstbeherrschung
X-ORIGINAL-URL:https://soli-komitee-wuppertal.mobi
X-WR-CALDESC:Veranstaltungen für so_ko_wpt • intervention und selbstbeherrschung
BEGIN:VEVENT
DTSTART;TZID=Europe/Amsterdam:20160509T193000
DTEND;TZID=Europe/Amsterdam:20160509T210000
DTSTAMP:20260420T080844
CREATED:20160504T162603Z
LAST-MODIFIED:20160504T162734Z
UID:11128-1462822200-1462827600@soli-komitee-wuppertal.mobi
SUMMARY:Vortrag: Asyl - Stigmatisierung?Kriminalisierung? Angst!
DESCRIPTION:Man hört: „Asylbewerber sind gefährlich und kriminell!“\nWir fragen: Stigmatisierung? Kriminalisierung? Angst! \nMit Dr. Mehmet Gürcan Daimagüler und Dr. Christian Walburg. \nDie Angst vor einer sogenannten Überfremdung der deutschen Gesellschaft geht häufig einher mit der Stigmatisierung von Asylbewerbern als kriminell und gefährlich. Aufgrund differenter Geschlechterbilder insbesondere von Flüchtlingen aus islamischen Ländern wird eine Bedrohung für Frauen und Mädchen angenommen und auch unisono sexuelle Übergriffe unterstellt. \nDass solche Vorverurteilungen nicht nur auf Demonstrationen\, auf diversen Portalen in den sozialen Netzwerken oder in polemisch geführten Debatten anzutreffen sind\, zeigt in Hinblick auf unseren Rechtsstaat und unsere Zivilgesellschaft der NSU-Prozess auf erschreckende und beschämende Weise. Die von den Ermittlungsbehörden vorgenommene Stigmatisierung der Opfer zu Tätern\, weil diese nicht deutscher Herkunft sind\, muss die Frage nach der Korrelation zwischen Alltagsrassismus und einem institutionellen Rassismus zulassen. Zugleich gilt es zu schauen\, wie Verbrechen medial vermittelt werden (Stichwort „Döner-Morde“) und welche Zahlen und Fakten bezüglich einer sogenannten „Ausländerkriminalität“ sowie eines „Ausländerextremismus‘“ vorliegen. \nDr. Mehmet Gürcan Daimagüler\, 1968 in Siegen geboren\, ist Jurist\, Kolumnist und Buchautor. 2011 erschien sein Buch „Kein schönes Land“\, in dem er sich kritisch mit der Integration von Zuwanderern in der Bundesrepublik Deutschland auseinandersetzt. Seit 2012 wirkt er als Vertreter der Nebenklage am NSU-Prozess mit. \nDr. Christian Walburg\, 1977 in Speyer geboren\, promovierte zum Thema „Migration und Jugenddelinquenz“ an der Rechtswissenschaftlichen Fakultät der Westfälischen Wilhelms-Universität Münster und ist seit 2013 akademischer Rat am Institut für Kriminalwissenschaften der Universität Münster.\n							Drucken \nArtikel teilen
URL:https://soli-komitee-wuppertal.mobi/event/vortrag-asyl-stigmatisierung-kriminalisierung-angst/
LOCATION:Laurentiusstraße 7\, Wuppertal
CATEGORIES:Veranstaltung/Vortrag
END:VEVENT
END:VCALENDAR