BEGIN:VCALENDAR
VERSION:2.0
PRODID:-//so_ko_wpt • intervention und selbstbeherrschung - ECPv4.6.14.1//NONSGML v1.0//EN
CALSCALE:GREGORIAN
METHOD:PUBLISH
X-WR-CALNAME:so_ko_wpt • intervention und selbstbeherrschung
X-ORIGINAL-URL:https://soli-komitee-wuppertal.mobi
X-WR-CALDESC:Veranstaltungen für so_ko_wpt • intervention und selbstbeherrschung
BEGIN:VEVENT
DTSTART;TZID=Europe/Amsterdam:20160418T193000
DTEND;TZID=Europe/Amsterdam:20160418T210000
DTSTAMP:20260423T150056
CREATED:20160409T172725Z
LAST-MODIFIED:20160409T172725Z
UID:10944-1461007800-1461013200@soli-komitee-wuppertal.mobi
SUMMARY:Vortrag: TTIP – BedrohtFreihandel unsere Zukunft?
DESCRIPTION:Das Wupper­taler Aktions­bündnis gegen TTIP und andere Freihan­dels­fallen lädt zu einem Vortrag mit Diskus­sion ein : TTIP\, TiSA\, CETA – Bedroht der Freihandel unsere Zukunft ? \n\n							Drucken\nArtikel teilen
URL:https://soli-komitee-wuppertal.mobi/event/vortrag-ttip-bedrohtfreihandel-unsere-zukunft/
LOCATION:Peter-Hansen-Platz 1\, Wuppertal
CATEGORIES:Veranstaltung/Vortrag
END:VEVENT
END:VCALENDAR