BEGIN:VCALENDAR
VERSION:2.0
PRODID:-//so_ko_wpt • intervention und selbstbeherrschung - ECPv4.6.14.1//NONSGML v1.0//EN
CALSCALE:GREGORIAN
METHOD:PUBLISH
X-WR-CALNAME:so_ko_wpt • intervention und selbstbeherrschung
X-ORIGINAL-URL:https://soli-komitee-wuppertal.mobi
X-WR-CALDESC:Veranstaltungen für so_ko_wpt • intervention und selbstbeherrschung
BEGIN:VEVENT
DTSTART;TZID=Europe/Amsterdam:20150219T180000
DTEND;TZID=Europe/Amsterdam:20150219T203000
DTSTAMP:20260419T163348
CREATED:20150211T190255Z
LAST-MODIFIED:20150211T190526Z
UID:7407-1424368800-1424377800@soli-komitee-wuppertal.mobi
SUMMARY:Vortrag zum geopolitischenKontext von TTIP
DESCRIPTION:Die Ukraine-Krise als Brandbeschleuniger für die Freihandels-Verhandlungen – Der geopolitische Kontext von TTIP \nVortrag von Elke Schenk (attac\, globalcrisis/globalchange).\n							Drucken \nArtikel teilen
URL:https://soli-komitee-wuppertal.mobi/event/vortrag-zum-geopolitischenkontext-von-ttip/
CATEGORIES:Veranstaltung/Vortrag
END:VEVENT
END:VCALENDAR