BEGIN:VCALENDAR
VERSION:2.0
PRODID:-//so_ko_wpt • intervention und selbstbeherrschung - ECPv4.6.14.1//NONSGML v1.0//EN
CALSCALE:GREGORIAN
METHOD:PUBLISH
X-WR-CALNAME:so_ko_wpt • intervention und selbstbeherrschung
X-ORIGINAL-URL:https://soli-komitee-wuppertal.mobi
X-WR-CALDESC:Veranstaltungen für so_ko_wpt • intervention und selbstbeherrschung
BEGIN:VEVENT
DTSTART;TZID=Europe/Amsterdam:20150319T190000
DTEND;TZID=Europe/Amsterdam:20150319T213000
DTSTAMP:20260425T121525
CREATED:20150316T133331Z
LAST-MODIFIED:20150316T133456Z
UID:7710-1426791600-1426800600@soli-komitee-wuppertal.mobi
SUMMARY:Zapatistischer Widerstandgestern u. heute – VA in O'hsn.
DESCRIPTION:Der zapatistische Widerstand gestern und heute - Brüche und Kontinuitäten. Bildervortrag und Diskussion. \nWarum begannen am 1. Januar 1994 Zehntausende indigene Kleinbäuer*innen\, die sich nach dem Revolutionsgeneral Emiliano Zapata ’Zapatistas’ nennen\, im südmexikanischen Chiapas ihre Rebellion? Wie konnte es gelingen autonome Parallelstrukturen zum repressiven mexikanischen Staat aufzubauen? Wie ist der Alltag in den zapatistischen Gemeinden? Wie steht es um die Situation und die Kämpfe der Frauen in der Bewegung? Wie funktionieren die Kooperativen\, in denen sich Menschen autonom organisieren\, die bis vor wenigen Jahren noch in sklavereiähnlichen Strukturen für Großgrundbesitzer schuften mussten? Welche Initiativen haben sie gestartet\, um ihre Rebellion unter dem Motto ’Alles für Alle!’ auszuweiten? Und wieso erfahren sie so viel solidarische Unterstützung in Mexiko und auf globalem Niveau? \nDie Info-Veranstaltung thematisiert die facettenreiche soziale Bewegung der Zapatistas. Der Aufstand von 1994 hatte zudem einen spürbaren Einfluss auf die europäische und deutsche Linke. Ebenso wie die Geschichte der zapatistischen Bewegung soll demnach auch deren Auswirkung und Inspiration auf emanzipatorische Bewegungen weltweit durch ihre undogmatische linke Politik aufgezeigt werden. \nReferent*innen: Gruppe B.A.S.T.A. Münster\n							Drucken \nArtikel teilen
URL:https://soli-komitee-wuppertal.mobi/event/zapatistischer-widerstand-gesternund-heute-va-in-ohsn/
CATEGORIES:Veranstaltung/Vortrag
END:VEVENT
END:VCALENDAR